BEGIN:VCALENDAR
VERSION:2.0
PRODID:spatie/icalendar-generator
DESCRIPTION:Events from The Great 799
X-WR-CALDESC:Events from The Great 799
REFRESH-INTERVAL;VALUE=DURATION:PT1440M
X-PUBLISHED-TTL:PT1440M
BEGIN:VTIMEZONE
TZID:America/Chicago
BEGIN:STANDARD
DTSTART:20241103T020000Z
TZOFFSETFROM:-0500
TZOFFSETTO:-0600
END:STANDARD
BEGIN:DAYLIGHT
DTSTART:20250309T020000Z
TZOFFSETFROM:-0600
TZOFFSETTO:-0500
END:DAYLIGHT
END:VTIMEZONE
BEGIN:VTIMEZONE
TZID:UTC
BEGIN:STANDARD
DTSTART:20250727T153245Z
TZOFFSETFROM:+0000
TZOFFSETTO:+0000
END:STANDARD
END:VTIMEZONE
BEGIN:VEVENT
UID:503-17
DTSTAMP:20260423T153245Z
SUMMARY:He is Risen! Happy Easter!!
LOCATION:
ORGANIZER;CN=Greg Bedenkop:MAILTO:gbedenkop@gmail.com
DTSTART;TZID=America/Chicago;VALUE=DATE:20250420
DTEND;TZID=America/Chicago;VALUE=DATE:20250421
X-ALT-DESC;FMTTYPE=TEXT/HTML:
CATEGORIES:Religious
URL;VALUE=URI:https://www.kc799.org/mc-events/he-is-risen-happy-easter/
METHOD:PUBLISH
END:VEVENT
END:VCALENDAR