BEGIN:VCALENDAR
VERSION:2.0
PRODID:spatie/icalendar-generator
DESCRIPTION:Events from The Great 799
X-WR-CALDESC:Events from The Great 799
REFRESH-INTERVAL;VALUE=DURATION:PT1440M
X-PUBLISHED-TTL:PT1440M
BEGIN:VTIMEZONE
TZID:America/Chicago
BEGIN:STANDARD
DTSTART:20251102T020000Z
TZOFFSETFROM:-0500
TZOFFSETTO:-0600
END:STANDARD
BEGIN:DAYLIGHT
DTSTART:20260308T020000Z
TZOFFSETFROM:-0600
TZOFFSETTO:-0500
END:DAYLIGHT
END:VTIMEZONE
BEGIN:VTIMEZONE
TZID:UTC
BEGIN:STANDARD
DTSTART:20250726T132521Z
TZOFFSETFROM:+0000
TZOFFSETTO:+0000
END:STANDARD
END:VTIMEZONE
BEGIN:VEVENT
UID:997-20
DTSTAMP:20260422T132521Z
SUMMARY:KC799 Lenten Fish Fry
LOCATION:Knights of Columbus Dallas Council 799 10110 Shoreview Road  Dalla
 s TX 75238
ORGANIZER;CN=Greg Bedenkop:MAILTO:gbedenkop@gmail.com
RRULE:FREQ=WEEKLY;UNTIL=20260404T000000Z
DTSTART;TZID=America/Chicago:20260403T173000
DTEND;TZID=America/Chicago:20260403T200000
X-ALT-DESC;FMTTYPE=TEXT/HTML:
CATEGORIES:Charitable Fundraising
URL;VALUE=URI:https://www.kc799.org/mc-events/kc799-lenten-fish-fry/?mc_id=
 997
METHOD:PUBLISH
END:VEVENT
END:VCALENDAR