BEGIN:VCALENDAR
VERSION:2.0
PRODID:spatie/icalendar-generator
DESCRIPTION:Events from The Great 799
X-WR-CALDESC:Events from The Great 799
REFRESH-INTERVAL;VALUE=DURATION:PT1440M
X-PUBLISHED-TTL:PT1440M
BEGIN:VTIMEZONE
TZID:America/Chicago
BEGIN:STANDARD
DTSTART:20261101T020000Z
TZOFFSETFROM:-0500
TZOFFSETTO:-0600
END:STANDARD
BEGIN:DAYLIGHT
DTSTART:20270314T020000Z
TZOFFSETFROM:-0600
TZOFFSETTO:-0500
END:DAYLIGHT
END:VTIMEZONE
BEGIN:VTIMEZONE
TZID:UTC
BEGIN:STANDARD
DTSTART:20250727T080708Z
TZOFFSETFROM:+0000
TZOFFSETTO:+0000
END:STANDARD
END:VTIMEZONE
BEGIN:VEVENT
UID:519-18
DTSTAMP:20260423T080708Z
SUMMARY:Monthly KC 799 Member meeting
LOCATION:Knights of Columbus Dallas Council 799 10110 Shoreview Road  Dalla
 s TX 75238
ORGANIZER;CN=Greg Bedenkop:MAILTO:gbedenkop@gmail.com
RRULE:FREQ=MONTHLY;BYDAY=1TU;UNTIL=20341206T000000Z
DTSTART;TZID=America/Chicago:20270406T190000
DTEND;TZID=America/Chicago:20270406T200000
X-ALT-DESC;FMTTYPE=TEXT/HTML:<p>Monthly Meeting for Member Knights<br />\nR
 osary - 7 pm\;  Meeting - 7:30 pm</p>\n
CATEGORIES:General
URL;VALUE=URI:https://www.kc799.org/mc-events/monthly-kc-799-member-meeting
 -2/?mc_id=519
METHOD:PUBLISH
END:VEVENT
END:VCALENDAR