BEGIN:VCALENDAR
VERSION:2.0
PRODID:spatie/icalendar-generator
DESCRIPTION:Events from The Great 799
X-WR-CALDESC:Events from The Great 799
REFRESH-INTERVAL;VALUE=DURATION:PT1440M
X-PUBLISHED-TTL:PT1440M
BEGIN:VTIMEZONE
TZID:America/Chicago
BEGIN:DAYLIGHT
DTSTART:20250309T020000Z
TZOFFSETFROM:-0600
TZOFFSETTO:-0500
END:DAYLIGHT
BEGIN:STANDARD
DTSTART:20251102T020000Z
TZOFFSETFROM:-0500
TZOFFSETTO:-0600
END:STANDARD
BEGIN:DAYLIGHT
DTSTART:20260308T020000Z
TZOFFSETFROM:-0600
TZOFFSETTO:-0500
END:DAYLIGHT
END:VTIMEZONE
BEGIN:VTIMEZONE
TZID:UTC
BEGIN:STANDARD
DTSTART:20250727T031830Z
TZOFFSETFROM:+0000
TZOFFSETTO:+0000
END:STANDARD
END:VTIMEZONE
BEGIN:VEVENT
UID:256-7
DTSTAMP:20260423T031830Z
SUMMARY:Ronald McDonald House - Meal Sponsorship
LOCATION:
ORGANIZER;CN=Greg Bedenkop:MAILTO:gbedenkop@gmail.com
RRULE:FREQ=MONTHLY;BYDAY=1SA;UNTIL=20341231T000000Z
DTSTART;TZID=America/Chicago;VALUE=DATE:20250906
DTEND;TZID=America/Chicago;VALUE=DATE:20250907
X-ALT-DESC;FMTTYPE=TEXT/HTML:<p>Volunteer Opportunity to serve on a team to
  provide a meal to hospitalized or sick children and their families at the
  Ronald McDonald House</p>\n
CATEGORIES:General
URL;VALUE=URI:https://www.kc799.org/mc-events/ronald-mcdonald-house-meal-sp
 onsorship/?mc_id=256
METHOD:PUBLISH
END:VEVENT
END:VCALENDAR