BEGIN:VCALENDAR
VERSION:2.0
PRODID:spatie/icalendar-generator
DESCRIPTION:Events from The Great 799
X-WR-CALDESC:Events from The Great 799
REFRESH-INTERVAL;VALUE=DURATION:PT1440M
X-PUBLISHED-TTL:PT1440M
BEGIN:VTIMEZONE
TZID:America/Chicago
BEGIN:DAYLIGHT
DTSTART:20260308T020000Z
TZOFFSETFROM:-0600
TZOFFSETTO:-0500
END:DAYLIGHT
BEGIN:STANDARD
DTSTART:20261101T020000Z
TZOFFSETFROM:-0500
TZOFFSETTO:-0600
END:STANDARD
BEGIN:DAYLIGHT
DTSTART:20270314T020000Z
TZOFFSETFROM:-0600
TZOFFSETTO:-0500
END:DAYLIGHT
END:VTIMEZONE
BEGIN:VTIMEZONE
TZID:UTC
BEGIN:STANDARD
DTSTART:20250726T174801Z
TZOFFSETFROM:+0000
TZOFFSETTO:+0000
END:STANDARD
END:VTIMEZONE
BEGIN:VEVENT
UID:1114-27
DTSTAMP:20260422T174801Z
SUMMARY:Annual Golf Tournament (Save the Date)
LOCATION:
ORGANIZER;CN=Greg Bedenkop:MAILTO:gbedenkop@gmail.com
DTSTART;TZID=America/Chicago:20260925T110000
DTEND;TZID=America/Chicago:20260925T120000
X-ALT-DESC;FMTTYPE=TEXT/HTML:
CATEGORIES:Charitable Fundraising
URL;VALUE=URI:https://www.kc799.org/mc-events/annual-golf-tournament-save-t
 he-date/
METHOD:PUBLISH
END:VEVENT
END:VCALENDAR