BEGIN:VCALENDAR
VERSION:2.0
PRODID:spatie/icalendar-generator
DESCRIPTION:Events from The Great 799
X-WR-CALDESC:Events from The Great 799
REFRESH-INTERVAL;VALUE=DURATION:PT1440M
X-PUBLISHED-TTL:PT1440M
BEGIN:VTIMEZONE
TZID:America/Chicago
BEGIN:DAYLIGHT
DTSTART:20260308T020000Z
TZOFFSETFROM:-0600
TZOFFSETTO:-0500
END:DAYLIGHT
BEGIN:STANDARD
DTSTART:20261101T020000Z
TZOFFSETFROM:-0500
TZOFFSETTO:-0600
END:STANDARD
END:VTIMEZONE
BEGIN:VTIMEZONE
TZID:UTC
BEGIN:STANDARD
DTSTART:20250726T145557Z
TZOFFSETFROM:+0000
TZOFFSETTO:+0000
END:STANDARD
END:VTIMEZONE
BEGIN:VEVENT
UID:1061-26
DTSTAMP:20260422T145557Z
SUMMARY:Bingo at the Hall
LOCATION:KayCee Club / Knights of Columbus Fourth Degree Assembly 1087 1011
 0 Shoreview Rd  Dallas TX 75238
ORGANIZER;CN=Greg Bedenkop:MAILTO:gbedenkop@gmail.com
RRULE:FREQ=MONTHLY;BYDAY=2TH;UNTIL=20301213T000000Z
DTSTART;TZID=America/Chicago:20260813T190000
DTEND;TZID=America/Chicago:20260813T220000
X-ALT-DESC;FMTTYPE=TEXT/HTML:
CATEGORIES:Bingo,  Charitable Fundraising
URL;VALUE=URI:https://www.kc799.org/mc-events/bingo-at-the-hall/?mc_id=1061
METHOD:PUBLISH
END:VEVENT
END:VCALENDAR